
BEGIN:VCALENDAR
VERSION:2.0
PRODID:-//Tigerman Sports Pvt. Ltd - ECPv6.15.20//NONSGML v1.0//EN
CALSCALE:GREGORIAN
METHOD:PUBLISH
X-ORIGINAL-URL:https://tigerman.in
X-WR-CALDESC:Events for Tigerman Sports Pvt. Ltd
REFRESH-INTERVAL;VALUE=DURATION:PT1H
X-Robots-Tag:noindex
X-PUBLISHED-TTL:PT1H
BEGIN:VTIMEZONE
TZID:Asia/Dubai
BEGIN:STANDARD
TZOFFSETFROM:+0400
TZOFFSETTO:+0400
TZNAME:+04
DTSTART:20250101T000000
END:STANDARD
END:VTIMEZONE
BEGIN:VTIMEZONE
TZID:UTC
BEGIN:STANDARD
TZOFFSETFROM:+0000
TZOFFSETTO:+0000
TZNAME:UTC
DTSTART:20230101T000000
END:STANDARD
END:VTIMEZONE
BEGIN:VEVENT
DTSTART;VALUE=DATE:20260214
DTEND;VALUE=DATE:20260215
DTSTAMP:20260423T144732
CREATED:20250830T063447Z
LAST-MODIFIED:20260206T060158Z
UID:7760-1771027200-1771113599@tigerman.in
SUMMARY:Tigerman Kids Triathlon & Duathlon – Nagpur | 14th Feb 2026
DESCRIPTION:Tigerman Kids Nagpur Triathlon and Duathlon\n\nEvent Date – 14th Feb 2026\nVenue – Delhi Public School Mihan Nagpur \nFor Age groups – 10 years and above \nRegistration Link – \nhttps://racesregistrations.com/e/Tigerman_Kids-2026 \n\n\n  \nSprint Distance Triathlon \n750 m Swim – 20 km Cycling – 5 km Run\n(Solo and Relay) \nSuper Sprint Distance Triathlon \n250 m Swim – 10 km Cycling – 2 km Run\n(Solo and Relay) \nSprint Distance Duathlon\n2 km Run – 20 km Cycling – 5 km Run\n(Solo and Relay) \nSuper Sprint Distance Duathlon\n1 km Run – 10 km Cycling – 2 km Run\n(Solo and Relay)
URL:https://tigerman.in/event/tigerman-kids-triathlon-duathlon-nagpur-14th-feb-2026/
LOCATION:Delhi Public School Mihan Nagpur\, Delhi Public School Mihan Nagpur\, Nagpur\, India
CATEGORIES:Sport
ATTACH;FMTTYPE=image/jpeg:https://tigerman.in/wp-content/uploads/2025/08/Untitled-design-6.jpg.jpeg
ORGANIZER;CN="Tigerman Sports Pvt. Ltd.":MAILTO:support@tigerman.in
END:VEVENT
BEGIN:VEVENT
DTSTART;VALUE=DATE:20250208
DTEND;VALUE=DATE:20250210
DTSTAMP:20260423T144732
CREATED:20190925T041604Z
LAST-MODIFIED:20240613T030021Z
UID:551-1738972800-1739145599@tigerman.in
SUMMARY:Tigerman Triathlon and Duathlon 2025  8th and 9th Feb 2025 At Nagpur
DESCRIPTION:  \nThe Tigerman Triathlon and Duathlon 2025 is set for February 8th and 9th in Nagpur. This premier event challenges athletes with a triathlon comprising swimming\, cycling\, and running\, and a duathlon featuring running and cycling. Open to participants of all levels\, it promises a thrilling test of endurance and skill in a vibrant setting. Whether you’re a seasoned athlete or a beginner\, this event offers a memorable experience in the heart of India.\nTwo day Multisport Festival of India \nRegistrations Opening from 15 May 2024.\nwww.tigerman.in \n  \n  \nRace Distances On 8th February 2025\nTigerCubs Triathlon\n250 m Swim- 10 km Cycling- 2 km Run\nSolo Rs 1750\nRelay Rs 2000\n750 m Swim – 20 km Cycling – 5 km Run\nSolo Rs 2000\nRelay Rs 2500\nShort distance Duathlon\nTigerCubs Duathlon -1 km Run – 10 km Cycle – 2 km Run\nSolo – Rs 1600\nRelay – Rs 2000\n2 km Run – 20 km Cycle – 5 km Run\nSolo – Rs 2000\nRelay – Rs 2500\n9th Feb 2025 Long Distance Triathlon\nTigerman Ultimate – 5 km Swim – 200 km Bike- 50 km Run\nRs 25000\nRs 27000\nTigerman 183 – 3 km Swim – 150 km Bike – 30 km Run\nRs 20000\nRs 22000\nTigerman 122 – 2 km Swim – 100 km Bike – 20 km Run\nRs 15000\nRs 17000\nOlympic Distance Triathlon  1500 m Swim – 40 km Bike – 10 km Run\nSolo Rs 8000\nRelay Rs 10000 \nTigerman Duathlon\nDuathlon 55\n5 km Run – 40 km Cycle – 10 km Run\nSolo – Rs 3750\nRelay – Rs 5750\nDuathlon 125\n5 km Run – 100 km Cycle – 20 km Run\nSolo – Rs 8000\nRelay – Rs 10000
URL:https://tigerman.in/event/tigerman-triathlon-and-duathlon-2025-8th-and-9th-feb-2025-at-nagpur/
LOCATION:Ambazari Garden\, Ambazari Garden\, Nagpur\, India
CATEGORIES:Races,Sport
ATTACH;FMTTYPE=image/jpeg:https://tigerman.in/wp-content/uploads/2019/09/eerrrr.jpeg
ORGANIZER;CN="Tigerman Sports Pvt. Ltd.":MAILTO:support@tigerman.in
END:VEVENT
BEGIN:VEVENT
DTSTART;VALUE=DATE:20240812
DTEND;VALUE=DATE:20240813
DTSTAMP:20260423T144732
CREATED:20240615T022948Z
LAST-MODIFIED:20240807T065454Z
UID:5553-1723420800-1723507199@tigerman.in
SUMMARY:Satpuda King Of Mountain 2nd Edition December 2024
DESCRIPTION:Satpuda King Of Mountain 2nd Edition December 2024\n																										 \n30th November and 1st December 2024\nThe exciting 2nd Edition of Satpuda King of Mountain Race is Coming back in winters of 2024. It is going to be truly King of Mountain Race with Cycling and Running format. \nDay 1 Saturday 30th November\nKing Of Mountain Cycle Race Cycle Race FromNagpur To Pachmarhi 250 Km In Solo Or Team Of 2 Format \nDay 2 1st December\nKing of Mountain Run 42 Km Marathon from  Matkuli to Chouragarh Or 21 km from Pachmarhi Climb to Chouragarh. \nYou can participate in both the races or participate in only one race and be part of this iconic race event. \nBe a King of Mountain \nRegistrations opening soon…. \nRace Director Dr Amit Samarth \nAge Category:18 to 39 Age40 to 49 Age50 to 59 Age60 and Above Age \n\nStart Point – Zero Mile Nagpur\nFinish Point – Entry Gate of Pachmarhi\n5 Check Points\nAll Riders will be Live Tracked using a GPS device\nLive Leader board and Commentary of the race on Social media\nPhotography and videography for all the riders on the route\n\nRules and Regulations of the race :\n•Road Bike Race with no aerobars \n•No External Support is allowed \n•Rider has to manage any mechanical issues and punctures \n•Support will be available on the Check Point \n•Rider has to carry Tracking Device all the time \n•Total time to finish is 14 hours
URL:https://tigerman.in/event/satpuda-king-of-mountain-2nd-edition-december-2024/
CATEGORIES:Races,Sport
ATTACH;FMTTYPE=image/png:https://tigerman.in/wp-content/uploads/2024/06/Satpuda-map.png
ORGANIZER;CN="Tigerman Sports Pvt. Ltd.":MAILTO:support@tigerman.in
END:VEVENT
END:VCALENDAR